BEGIN:VCALENDAR
VERSION:2.0
PRODID:-//Cherry Tree Academy - ECPv5.1.4//NONSGML v1.0//EN
CALSCALE:GREGORIAN
METHOD:PUBLISH
X-WR-CALNAME:Cherry Tree Academy
X-ORIGINAL-URL:https://cherrytreeacademy.org
X-WR-CALDESC:Events for Cherry Tree Academy
BEGIN:VTIMEZONE
TZID:Europe/London
BEGIN:DAYLIGHT
TZOFFSETFROM:+0000
TZOFFSETTO:+0100
TZNAME:BST
DTSTART:20230326T010000
END:DAYLIGHT
BEGIN:STANDARD
TZOFFSETFROM:+0100
TZOFFSETTO:+0000
TZNAME:GMT
DTSTART:20231029T010000
END:STANDARD
END:VTIMEZONE
BEGIN:VEVENT
DTSTART;VALUE=DATE:20230707
DTEND;VALUE=DATE:20230708
DTSTAMP:20260419T035356
CREATED:20230619T113453Z
LAST-MODIFIED:20230619T113453Z
UID:2333-1688688000-1688774399@cherrytreeacademy.org
SUMMARY:Grown up ME day
DESCRIPTION:Children can come to school dressed up as what they would like to be when they grow up. \n
URL:https://cherrytreeacademy.org/event/grown-up-me-day/
ATTACH;FMTTYPE=:
END:VEVENT
BEGIN:VEVENT
DTSTART;VALUE=DATE:20230713
DTEND;VALUE=DATE:20230714
DTSTAMP:20260419T035356
CREATED:20230619T114436Z
LAST-MODIFIED:20230619T114436Z
UID:2339-1689206400-1689292799@cherrytreeacademy.org
SUMMARY:Sports day
DESCRIPTION:EYFS and KS1 morning \n
URL:https://cherrytreeacademy.org/event/sports-day/
ATTACH;FMTTYPE=:
END:VEVENT
BEGIN:VEVENT
DTSTART;VALUE=DATE:20230714
DTEND;VALUE=DATE:20230715
DTSTAMP:20260419T035356
CREATED:20230619T114658Z
LAST-MODIFIED:20230619T114658Z
UID:2343-1689292800-1689379199@cherrytreeacademy.org
SUMMARY:Sports day
DESCRIPTION:LKS2 Morning \nUKS2 Afternoon \n
URL:https://cherrytreeacademy.org/event/sports-day-2/
ATTACH;FMTTYPE=:
END:VEVENT
BEGIN:VEVENT
DTSTART;VALUE=DATE:20230719
DTEND;VALUE=DATE:20230720
DTSTAMP:20260419T035356
CREATED:20230619T113831Z
LAST-MODIFIED:20230619T113831Z
UID:2336-1689724800-1689811199@cherrytreeacademy.org
SUMMARY:Y6 Disco
DESCRIPTION:
URL:https://cherrytreeacademy.org/event/y6-disco/
ATTACH;FMTTYPE=:
END:VEVENT
BEGIN:VEVENT
DTSTART;VALUE=DATE:20230721
DTEND;VALUE=DATE:20230722
DTSTAMP:20260419T035356
CREATED:20230619T115022Z
LAST-MODIFIED:20230619T115022Z
UID:2345-1689897600-1689983999@cherrytreeacademy.org
SUMMARY:Y6 leavers assembly
DESCRIPTION:
URL:https://cherrytreeacademy.org/event/y6-leavers-assembly/
ATTACH;FMTTYPE=:
END:VEVENT
BEGIN:VEVENT
DTSTART;VALUE=DATE:20230724
DTEND;VALUE=DATE:20230725
DTSTAMP:20260419T035356
CREATED:20230619T115558Z
LAST-MODIFIED:20230619T115558Z
UID:2348-1690156800-1690243199@cherrytreeacademy.org
SUMMARY:School closes for summer
DESCRIPTION:Last day of school until Wednesday 6th September \n
URL:https://cherrytreeacademy.org/event/school-closes-for-summer/
ATTACH;FMTTYPE=:
END:VEVENT
END:VCALENDAR