BEGIN:VCALENDAR
VERSION:2.0
PRODID:-//Cherry Tree Academy - ECPv5.1.4//NONSGML v1.0//EN
CALSCALE:GREGORIAN
METHOD:PUBLISH
X-WR-CALNAME:Cherry Tree Academy
X-ORIGINAL-URL:https://cherrytreeacademy.org
X-WR-CALDESC:Events for Cherry Tree Academy
BEGIN:VTIMEZONE
TZID:Europe/London
BEGIN:DAYLIGHT
TZOFFSETFROM:+0000
TZOFFSETTO:+0100
TZNAME:BST
DTSTART:20230326T010000
END:DAYLIGHT
BEGIN:STANDARD
TZOFFSETFROM:+0100
TZOFFSETTO:+0000
TZNAME:GMT
DTSTART:20231029T010000
END:STANDARD
END:VTIMEZONE
BEGIN:VEVENT
DTSTART;VALUE=DATE:20231005
DTEND;VALUE=DATE:20231006
DTSTAMP:20260419T040219
CREATED:20230928T142251Z
LAST-MODIFIED:20230928T142251Z
UID:2672-1696464000-1696550399@cherrytreeacademy.org
SUMMARY:Superhero day
DESCRIPTION:Come in your best Superhero costume\, grab your cape and engage your superpowers!\nWe will also be enjoying a Superhero’s meal at lunchtime so please join us for a school meal. \n
URL:https://cherrytreeacademy.org/event/superhero-day/
ATTACH;FMTTYPE=:
END:VEVENT
BEGIN:VEVENT
DTSTART;VALUE=DATE:20231025
DTEND;VALUE=DATE:20231026
DTSTAMP:20260419T040219
CREATED:20231023T144330Z
LAST-MODIFIED:20231023T144330Z
UID:2762-1698192000-1698278399@cherrytreeacademy.org
SUMMARY:Eden Camp Visit
DESCRIPTION:Year 5 and 6 will be visiting Eden Camp on Wednesday 25th October. \n  \nAll children going on the trip need to be in school for 08.40am \n
URL:https://cherrytreeacademy.org/event/eden-camp-visit/
ATTACH;FMTTYPE=:
END:VEVENT
BEGIN:VEVENT
DTSTART;VALUE=DATE:20231027
DTEND;VALUE=DATE:20231028
DTSTAMP:20260419T040219
CREATED:20231023T143100Z
LAST-MODIFIED:20231023T143100Z
UID:2758-1698364800-1698451199@cherrytreeacademy.org
SUMMARY:Pumpkin Carving Competition
DESCRIPTION:Carve your best pumpkin/turnip at home and bring it to school before Thursday\, we will announce the winner in assembly on Friday for a exciting prize. \n  \nThe theme this year is Cherry Tree / school life \n
URL:https://cherrytreeacademy.org/event/pumpkin-carving-competition/
ATTACH;FMTTYPE=:
END:VEVENT
END:VCALENDAR