BEGIN:VCALENDAR
VERSION:2.0
PRODID:-//Cherry Tree Academy - ECPv5.1.4//NONSGML v1.0//EN
CALSCALE:GREGORIAN
METHOD:PUBLISH
X-WR-CALNAME:Cherry Tree Academy
X-ORIGINAL-URL:https://cherrytreeacademy.org
X-WR-CALDESC:Events for Cherry Tree Academy
BEGIN:VTIMEZONE
TZID:Europe/London
BEGIN:DAYLIGHT
TZOFFSETFROM:+0000
TZOFFSETTO:+0100
TZNAME:BST
DTSTART:20230326T010000
END:DAYLIGHT
BEGIN:STANDARD
TZOFFSETFROM:+0100
TZOFFSETTO:+0000
TZNAME:GMT
DTSTART:20231029T010000
END:STANDARD
END:VTIMEZONE
BEGIN:VEVENT
DTSTART;TZID=Europe/London:20231120T150000
DTEND;TZID=Europe/London:20231123T160000
DTSTAMP:20260417T211739
CREATED:20231107T122545Z
LAST-MODIFIED:20231107T122545Z
UID:2803-1700492400-1700755200@cherrytreeacademy.org
SUMMARY:Book fair
DESCRIPTION:The Scholastic book fair is coming to school again. \nChoose your favourite book from a large selection. \n
URL:https://cherrytreeacademy.org/event/book-fair/
ATTACH;FMTTYPE=:
END:VEVENT
END:VCALENDAR